

BEGIN:VCALENDAR
VERSION:2.0
PRODID:-//The Meadows of Chestnut Ridge - ECPv6.15.7//NONSGML v1.0//EN
CALSCALE:GREGORIAN
METHOD:PUBLISH
X-ORIGINAL-URL:https://themeadowscr.com
X-WR-CALDESC:Events for The Meadows of Chestnut Ridge
REFRESH-INTERVAL;VALUE=DURATION:PT1H
X-Robots-Tag:noindex
X-PUBLISHED-TTL:PT1H
BEGIN:VTIMEZONE
TZID:America/Halifax
BEGIN:DAYLIGHT
TZOFFSETFROM:-0400
TZOFFSETTO:-0300
TZNAME:ADT
DTSTART:20220313T060000
END:DAYLIGHT
BEGIN:STANDARD
TZOFFSETFROM:-0300
TZOFFSETTO:-0400
TZNAME:AST
DTSTART:20221106T050000
END:STANDARD
BEGIN:DAYLIGHT
TZOFFSETFROM:-0400
TZOFFSETTO:-0300
TZNAME:ADT
DTSTART:20230312T060000
END:DAYLIGHT
BEGIN:STANDARD
TZOFFSETFROM:-0300
TZOFFSETTO:-0400
TZNAME:AST
DTSTART:20231105T050000
END:STANDARD
BEGIN:DAYLIGHT
TZOFFSETFROM:-0400
TZOFFSETTO:-0300
TZNAME:ADT
DTSTART:20240310T060000
END:DAYLIGHT
BEGIN:STANDARD
TZOFFSETFROM:-0300
TZOFFSETTO:-0400
TZNAME:AST
DTSTART:20241103T050000
END:STANDARD
BEGIN:DAYLIGHT
TZOFFSETFROM:-0400
TZOFFSETTO:-0300
TZNAME:ADT
DTSTART:20250309T060000
END:DAYLIGHT
BEGIN:STANDARD
TZOFFSETFROM:-0300
TZOFFSETTO:-0400
TZNAME:AST
DTSTART:20251102T050000
END:STANDARD
BEGIN:DAYLIGHT
TZOFFSETFROM:-0400
TZOFFSETTO:-0300
TZNAME:ADT
DTSTART:20260308T060000
END:DAYLIGHT
BEGIN:STANDARD
TZOFFSETFROM:-0300
TZOFFSETTO:-0400
TZNAME:AST
DTSTART:20261101T050000
END:STANDARD
END:VTIMEZONE
BEGIN:VTIMEZONE
TZID:UTC
BEGIN:STANDARD
TZOFFSETFROM:+0000
TZOFFSETTO:+0000
TZNAME:UTC
DTSTART:20220101T000000
END:STANDARD
END:VTIMEZONE
BEGIN:VEVENT
DTSTART;TZID=America/Halifax:20251214T170000
DTEND;TZID=America/Halifax:20251214T190000
DTSTAMP:20260420T004027
CREATED:20251201T232757Z
LAST-MODIFIED:20251201T235824Z
UID:3354-1765731600-1765738800@themeadowscr.com
SUMMARY:Annual Holiday Meeting 2025
DESCRIPTION:
URL:https://themeadowscr.com/event/annual-holiday-meeting-2025/
LOCATION:Magnolia Fire Company\, 2 North Main Street\, Magnolia\, DE\, 19962\, United States
ATTACH;FMTTYPE=image/png:https://themeadowscr.com/wp-content/uploads/2025/12/file_00000000a874720c9b918cdd05e8ffb8-1.png
END:VEVENT
BEGIN:VEVENT
DTSTART;TZID=America/Halifax:20250503T110000
DTEND;TZID=America/Halifax:20250503T150000
DTSTAMP:20260420T004027
CREATED:20250428T015008Z
LAST-MODIFIED:20250428T015008Z
UID:2700-1746270000-1746284400@themeadowscr.com
SUMMARY:Block Party
DESCRIPTION:
URL:https://themeadowscr.com/event/block-party/
LOCATION:93 Bellflower Ln\, Magnolia\, DE 19962\, United States\, 93 Bellflower Ln\, MAGNOLIA\, DE\, 19962\, United States
END:VEVENT
BEGIN:VEVENT
DTSTART;TZID=America/Halifax:20241211T190000
DTEND;TZID=America/Halifax:20241211T210000
DTSTAMP:20260420T004027
CREATED:20241108T214219Z
LAST-MODIFIED:20241108T214219Z
UID:1432-1733943600-1733950800@themeadowscr.com
SUMMARY:Annual Holiday Meeting 2024
DESCRIPTION:It’s the building behind the Firehouse. \nFood will be provided and if your lucky you get to go home with a prize.
URL:https://themeadowscr.com/event/annual-holiday-meeting-2024/
LOCATION:Magnolia Fire Company\, 2 North Main Street\, Magnolia\, DE\, 19962\, United States
END:VEVENT
BEGIN:VEVENT
DTSTART;TZID=America/Halifax:20240608T110000
DTEND;TZID=America/Halifax:20240608T160000
DTSTAMP:20260420T004027
CREATED:20240521T180942Z
LAST-MODIFIED:20240521T180942Z
UID:1215-1717844400-1717862400@themeadowscr.com
SUMMARY:General Meeting/Community Picnic 2024
DESCRIPTION:Meeting will be held at 11:30 AM
URL:https://themeadowscr.com/event/general-meeting-community-picnic-2024/
LOCATION:Cross section of Deerberry Dr & Bellflower Ln\, 11 Bellflower Lane\, Magnolia\, DE\, 19962\, United States
ORGANIZER;CN="HOA Board":MAILTO:themeadowscr@gmail.com
END:VEVENT
BEGIN:VEVENT
DTSTART;TZID=UTC:20231214T180000
DTEND;TZID=UTC:20231214T200000
DTSTAMP:20260420T004027
CREATED:20230410T001846Z
LAST-MODIFIED:20231204T193019Z
UID:240-1702576800-1702584000@themeadowscr.com
SUMMARY:Annual Meeting / Holiday Party 2023
DESCRIPTION:
URL:https://themeadowscr.com/event/annual-meeting-holiday-party/
LOCATION:Magnolia Fire Company\, 2 North Main Street\, Magnolia\, DE\, 19962\, United States
END:VEVENT
BEGIN:VEVENT
DTSTART;TZID=America/Halifax:20230610T113000
DTEND;TZID=America/Halifax:20230610T160000
DTSTAMP:20260420T004027
CREATED:20230409T234855Z
LAST-MODIFIED:20230531T234814Z
UID:234-1686396600-1686412800@themeadowscr.com
SUMMARY:General Meeting/Community Picnic
DESCRIPTION:Location by pond. Please bring your own lawn chairs. \nGuest count is total amount of people attending.
URL:https://themeadowscr.com/event/general-meeting-community-picnic/
LOCATION:DE
END:VEVENT
BEGIN:VEVENT
DTSTART;TZID=America/Halifax:20230520T080000
DTEND;TZID=America/Halifax:20230520T140000
DTSTAMP:20260420T004027
CREATED:20230519T022502Z
LAST-MODIFIED:20230519T023809Z
UID:460-1684569600-1684591200@themeadowscr.com
SUMMARY:Community Yard Sale
DESCRIPTION:In conjunction with the Reserves of Chestnut Ridge.
URL:https://themeadowscr.com/event/community-yard-sale/
LOCATION:DE
END:VEVENT
END:VCALENDAR